BEGIN:VCALENDAR
VERSION:2.0
PRODID:-//Evangelische Kirchengemeinde Linkenheim - ECPv6.15.20//NONSGML v1.0//EN
CALSCALE:GREGORIAN
METHOD:PUBLISH
X-WR-CALNAME:Evangelische Kirchengemeinde Linkenheim
X-ORIGINAL-URL:https://www.ekg-linkenheim.de
X-WR-CALDESC:Veranstaltungen für Evangelische Kirchengemeinde Linkenheim
REFRESH-INTERVAL;VALUE=DURATION:PT1H
X-Robots-Tag:noindex
X-PUBLISHED-TTL:PT1H
BEGIN:VTIMEZONE
TZID:Europe/Berlin
BEGIN:DAYLIGHT
TZOFFSETFROM:+0100
TZOFFSETTO:+0200
TZNAME:CEST
DTSTART:20230326T010000
END:DAYLIGHT
BEGIN:STANDARD
TZOFFSETFROM:+0200
TZOFFSETTO:+0100
TZNAME:CET
DTSTART:20231029T010000
END:STANDARD
BEGIN:DAYLIGHT
TZOFFSETFROM:+0100
TZOFFSETTO:+0200
TZNAME:CEST
DTSTART:20240331T010000
END:DAYLIGHT
BEGIN:STANDARD
TZOFFSETFROM:+0200
TZOFFSETTO:+0100
TZNAME:CET
DTSTART:20241027T010000
END:STANDARD
BEGIN:DAYLIGHT
TZOFFSETFROM:+0100
TZOFFSETTO:+0200
TZNAME:CEST
DTSTART:20250330T010000
END:DAYLIGHT
BEGIN:STANDARD
TZOFFSETFROM:+0200
TZOFFSETTO:+0100
TZNAME:CET
DTSTART:20251026T010000
END:STANDARD
END:VTIMEZONE
BEGIN:VEVENT
DTSTART;TZID=Europe/Berlin:20240328T190000
DTEND;TZID=Europe/Berlin:20240328T200000
DTSTAMP:20260423T154620
CREATED:20240223T091730Z
LAST-MODIFIED:20240223T100010Z
UID:8405-1711652400-1711656000@www.ekg-linkenheim.de
SUMMARY:Abendgottesdienst am Gründonnerstag\, 28.3.2024
DESCRIPTION:19 Uhr | Evang. Kirche Linkenheim \nAbendgottesdienst mit Feier des Abendmahls \nLeitung: Kirchenrat i. R. Hans-Martin Steffe\, Musik. Begleitung: Antje Oberschmidt \n  \n  \nHier geht’s zum Livestream\, der auch nachträglich auf YouTube abrufbar ist. \n  \n 
URL:https://www.ekg-linkenheim.de/event/abendgottesdienst-am-gruendonnerstag-28-3-2024/
LOCATION:Evangelische Kirche Linkenheim
CATEGORIES:kommender Gottesdienst
ATTACH;FMTTYPE=image/jpeg:https://www.ekg-linkenheim.de/wp-content/uploads/2023/02/Magazin-Gemeindebrief-Passion-162_5604_rgb.jpg
END:VEVENT
END:VCALENDAR