BEGIN:VCALENDAR
VERSION:2.0
PRODID:-//Evangelische Kirchengemeinde Linkenheim - ECPv6.15.20//NONSGML v1.0//EN
CALSCALE:GREGORIAN
METHOD:PUBLISH
X-WR-CALNAME:Evangelische Kirchengemeinde Linkenheim
X-ORIGINAL-URL:https://www.ekg-linkenheim.de
X-WR-CALDESC:Veranstaltungen für Evangelische Kirchengemeinde Linkenheim
REFRESH-INTERVAL;VALUE=DURATION:PT1H
X-Robots-Tag:noindex
X-PUBLISHED-TTL:PT1H
BEGIN:VTIMEZONE
TZID:Europe/Berlin
BEGIN:DAYLIGHT
TZOFFSETFROM:+0100
TZOFFSETTO:+0200
TZNAME:CEST
DTSTART:20230326T010000
END:DAYLIGHT
BEGIN:STANDARD
TZOFFSETFROM:+0200
TZOFFSETTO:+0100
TZNAME:CET
DTSTART:20231029T010000
END:STANDARD
BEGIN:DAYLIGHT
TZOFFSETFROM:+0100
TZOFFSETTO:+0200
TZNAME:CEST
DTSTART:20240331T010000
END:DAYLIGHT
BEGIN:STANDARD
TZOFFSETFROM:+0200
TZOFFSETTO:+0100
TZNAME:CET
DTSTART:20241027T010000
END:STANDARD
BEGIN:DAYLIGHT
TZOFFSETFROM:+0100
TZOFFSETTO:+0200
TZNAME:CEST
DTSTART:20250330T010000
END:DAYLIGHT
BEGIN:STANDARD
TZOFFSETFROM:+0200
TZOFFSETTO:+0100
TZNAME:CET
DTSTART:20251026T010000
END:STANDARD
END:VTIMEZONE
BEGIN:VEVENT
DTSTART;TZID=Europe/Berlin:20240421T100000
DTEND;TZID=Europe/Berlin:20240421T110000
DTSTAMP:20260423T140546
CREATED:20240314T165922Z
LAST-MODIFIED:20240314T165922Z
UID:8464-1713693600-1713697200@www.ekg-linkenheim.de
SUMMARY:Festgottesdienst zur Konfirmation\, 21.4.2024
DESCRIPTION:10 Uhr | Evang. Kirche Linkenheim \nmit CVJM Jugendreferent Stefan Geißert \nMitfeiern ist auch per Livestream möglich. \n  \n 
URL:https://www.ekg-linkenheim.de/event/festgottesdienst-zur-konfirmation-21-4-2024/
LOCATION:Evangelische Kirche Linkenheim
CATEGORIES:kommender Gottesdienst
ATTACH;FMTTYPE=image/jpeg:https://www.ekg-linkenheim.de/wp-content/uploads/2024/03/Fotolia_23164023_M.Kompass.jpg
END:VEVENT
END:VCALENDAR