BEGIN:VCALENDAR
VERSION:2.0
PRODID:-//Evangelische Kirchengemeinde Linkenheim - ECPv6.15.20//NONSGML v1.0//EN
CALSCALE:GREGORIAN
METHOD:PUBLISH
X-ORIGINAL-URL:https://www.ekg-linkenheim.de
X-WR-CALDESC:Veranstaltungen für Evangelische Kirchengemeinde Linkenheim
REFRESH-INTERVAL;VALUE=DURATION:PT1H
X-Robots-Tag:noindex
X-PUBLISHED-TTL:PT1H
BEGIN:VTIMEZONE
TZID:Europe/Berlin
BEGIN:DAYLIGHT
TZOFFSETFROM:+0100
TZOFFSETTO:+0200
TZNAME:CEST
DTSTART:20230326T010000
END:DAYLIGHT
BEGIN:STANDARD
TZOFFSETFROM:+0200
TZOFFSETTO:+0100
TZNAME:CET
DTSTART:20231029T010000
END:STANDARD
BEGIN:DAYLIGHT
TZOFFSETFROM:+0100
TZOFFSETTO:+0200
TZNAME:CEST
DTSTART:20240331T010000
END:DAYLIGHT
BEGIN:STANDARD
TZOFFSETFROM:+0200
TZOFFSETTO:+0100
TZNAME:CET
DTSTART:20241027T010000
END:STANDARD
BEGIN:DAYLIGHT
TZOFFSETFROM:+0100
TZOFFSETTO:+0200
TZNAME:CEST
DTSTART:20250330T010000
END:DAYLIGHT
BEGIN:STANDARD
TZOFFSETFROM:+0200
TZOFFSETTO:+0100
TZNAME:CET
DTSTART:20251026T010000
END:STANDARD
END:VTIMEZONE
BEGIN:VEVENT
DTSTART;TZID=Europe/Berlin:20240505T100000
DTEND;TZID=Europe/Berlin:20240505T110000
DTSTAMP:20260425T144241
CREATED:20240314T170314Z
LAST-MODIFIED:20240314T170314Z
UID:8471-1714903200-1714906800@www.ekg-linkenheim.de
SUMMARY:Gottesdienst am 5.5.2024
DESCRIPTION:Gottesdienst mit Ausstellungseröffnung der Fotowerkstatt (CVJM) \n„Drei Bilder – eine Geschichte“ \n10 Uhr | Evang. Kirche Linkenheim \nmit Pfr.in Katja Willunat \nMitfeiern ist auch per Livestream möglich. \n  \nIm Anschluss kann die Ausstellung im Gemeindehaus besichtigt werden. \n  \n 
URL:https://www.ekg-linkenheim.de/event/gottesdienst-am-5-5-2024/
LOCATION:Evangelische Kirche Linkenheim
CATEGORIES:kommender Gottesdienst
ATTACH;FMTTYPE=image/jpeg:https://www.ekg-linkenheim.de/wp-content/uploads/2020/06/symbolbild-fuer-alle.jpg
END:VEVENT
BEGIN:VEVENT
DTSTART;TZID=Europe/Berlin:20240505T110000
DTEND;TZID=Europe/Berlin:20240505T120000
DTSTAMP:20260425T144241
CREATED:20240426T093010Z
LAST-MODIFIED:20240426T093010Z
UID:8580-1714906800-1714910400@www.ekg-linkenheim.de
SUMMARY:Vernissage "Drei Bilder - Eine Geschichte" (CVJM Fotowerkstatt)
DESCRIPTION:Evang. Gemeindehaus | ca\, 11.00 Uhr \n„Drei Bilder – Eine Geschichte“ \nWir\, die Teilnehmer der CVJM Fotowerkstatt  laden Sie herzlich zur Vernissage unserer Ausstellung zum Thema „Drei Bilder – Eine Geschichte “ am 5.5. im Anschluss an den Gottesdienst im Gemeindehaus ein. \nKommen Sie mit uns ins Gespräch\, genießen die musikalische Untermalung\, betrachten Sie die Fotos und machen mit Fantasie aus unseren Fotos Ihre eigene Geschichte. \nWir freuen uns auf die Begegnungen und die Gespräche mit Ihnen. \n  \n 
URL:https://www.ekg-linkenheim.de/event/vernissage-drei-bilder-eine-geschichte-cvjm-fotowerkstatt/
LOCATION:Evangelisches Gemeindehaus Linkenheim
CATEGORIES:Ausstellung
END:VEVENT
END:VCALENDAR