BEGIN:VCALENDAR
VERSION:2.0
PRODID:-//Evangelische Kirchengemeinde Linkenheim - ECPv6.15.20//NONSGML v1.0//EN
CALSCALE:GREGORIAN
METHOD:PUBLISH
X-ORIGINAL-URL:https://www.ekg-linkenheim.de
X-WR-CALDESC:Veranstaltungen für Evangelische Kirchengemeinde Linkenheim
REFRESH-INTERVAL;VALUE=DURATION:PT1H
X-Robots-Tag:noindex
X-PUBLISHED-TTL:PT1H
BEGIN:VTIMEZONE
TZID:Europe/Berlin
BEGIN:DAYLIGHT
TZOFFSETFROM:+0100
TZOFFSETTO:+0200
TZNAME:CEST
DTSTART:20230326T010000
END:DAYLIGHT
BEGIN:STANDARD
TZOFFSETFROM:+0200
TZOFFSETTO:+0100
TZNAME:CET
DTSTART:20231029T010000
END:STANDARD
BEGIN:DAYLIGHT
TZOFFSETFROM:+0100
TZOFFSETTO:+0200
TZNAME:CEST
DTSTART:20240331T010000
END:DAYLIGHT
BEGIN:STANDARD
TZOFFSETFROM:+0200
TZOFFSETTO:+0100
TZNAME:CET
DTSTART:20241027T010000
END:STANDARD
BEGIN:DAYLIGHT
TZOFFSETFROM:+0100
TZOFFSETTO:+0200
TZNAME:CEST
DTSTART:20250330T010000
END:DAYLIGHT
BEGIN:STANDARD
TZOFFSETFROM:+0200
TZOFFSETTO:+0100
TZNAME:CET
DTSTART:20251026T010000
END:STANDARD
END:VTIMEZONE
BEGIN:VEVENT
DTSTART;TZID=Europe/Berlin:20240509T103000
DTEND;TZID=Europe/Berlin:20240509T113000
DTSTAMP:20260423T123929
CREATED:20240314T172226Z
LAST-MODIFIED:20240314T172226Z
UID:8474-1715250600-1715254200@www.ekg-linkenheim.de
SUMMARY:Regionaler Gottesdienst Christi Himmelfahrt\, 9.5.2024
DESCRIPTION:Open-Air-Gottesdienst in Graben-Neudorf (Platz hinter der Kirche) \nBei schlechtem Wetter IN der Kirche. \n10.30 Uhr | Graben-Neudorf \nKein Livestream verfügbar. \n  \nDie KG Graben-Neudorf lädt im Anschluss zu einem einfachen Mittagessen „auf die Hand“ ein.  \nBesteck\, Geschirr und Salate bitte selbst mitbringen! \n  \n 
URL:https://www.ekg-linkenheim.de/event/regionaler-gottesdienst-christi-himmelfahrt-9-5-2024/
LOCATION:Evangelische Kirche Linkenheim
CATEGORIES:kommender Gottesdienst
ATTACH;FMTTYPE=image/jpeg:https://www.ekg-linkenheim.de/wp-content/uploads/2020/05/demo-images-kinder-krabbelgruppe.jpg
END:VEVENT
END:VCALENDAR