BEGIN:VCALENDAR
VERSION:2.0
PRODID:-//Evangelische Kirchengemeinde Linkenheim - ECPv6.15.20//NONSGML v1.0//EN
CALSCALE:GREGORIAN
METHOD:PUBLISH
X-ORIGINAL-URL:https://www.ekg-linkenheim.de
X-WR-CALDESC:Veranstaltungen für Evangelische Kirchengemeinde Linkenheim
REFRESH-INTERVAL;VALUE=DURATION:PT1H
X-Robots-Tag:noindex
X-PUBLISHED-TTL:PT1H
BEGIN:VTIMEZONE
TZID:Europe/Berlin
BEGIN:DAYLIGHT
TZOFFSETFROM:+0100
TZOFFSETTO:+0200
TZNAME:CEST
DTSTART:20230326T010000
END:DAYLIGHT
BEGIN:STANDARD
TZOFFSETFROM:+0200
TZOFFSETTO:+0100
TZNAME:CET
DTSTART:20231029T010000
END:STANDARD
BEGIN:DAYLIGHT
TZOFFSETFROM:+0100
TZOFFSETTO:+0200
TZNAME:CEST
DTSTART:20240331T010000
END:DAYLIGHT
BEGIN:STANDARD
TZOFFSETFROM:+0200
TZOFFSETTO:+0100
TZNAME:CET
DTSTART:20241027T010000
END:STANDARD
BEGIN:DAYLIGHT
TZOFFSETFROM:+0100
TZOFFSETTO:+0200
TZNAME:CEST
DTSTART:20250330T010000
END:DAYLIGHT
BEGIN:STANDARD
TZOFFSETFROM:+0200
TZOFFSETTO:+0100
TZNAME:CET
DTSTART:20251026T010000
END:STANDARD
END:VTIMEZONE
BEGIN:VEVENT
DTSTART;TZID=Europe/Berlin:20240520T094500
DTEND;TZID=Europe/Berlin:20240520T104500
DTSTAMP:20260423T124004
CREATED:20240327T095641Z
LAST-MODIFIED:20240327T095641Z
UID:8497-1716198300-1716201900@www.ekg-linkenheim.de
SUMMARY:Gem. Gottesdienst am Pfingstmontag\, 20.5.2024 in Hochstetten
DESCRIPTION:9.45 Uhr | Evang. Kirche Hochstetten (Kirchstraße) \nLeitung: Pfarrerin Katja Willunat \nGottesdienst mit dem „Schatzjägern“ des CVJM Hochstetten \n  \nKein Livestream verfügbar.
URL:https://www.ekg-linkenheim.de/event/gem-gottesdienst-am-pfingstmontag-20-5-2024-in-hochstetten/
LOCATION:Evang. Kirche Hochstetten\, Kirchstr. 1b\, Linkenheim-Hochstetten\, 76351\, Germany
CATEGORIES:kommender Gottesdienst
ATTACH;FMTTYPE=image/jpeg:https://www.ekg-linkenheim.de/wp-content/uploads/2023/01/Kirche-Hochstetten.jpg
END:VEVENT
END:VCALENDAR