BEGIN:VCALENDAR
VERSION:2.0
PRODID:-//Evangelische Kirchengemeinde Linkenheim - ECPv6.15.20//NONSGML v1.0//EN
CALSCALE:GREGORIAN
METHOD:PUBLISH
X-WR-CALNAME:Evangelische Kirchengemeinde Linkenheim
X-ORIGINAL-URL:https://www.ekg-linkenheim.de
X-WR-CALDESC:Veranstaltungen für Evangelische Kirchengemeinde Linkenheim
REFRESH-INTERVAL;VALUE=DURATION:PT1H
X-Robots-Tag:noindex
X-PUBLISHED-TTL:PT1H
BEGIN:VTIMEZONE
TZID:Europe/Berlin
BEGIN:DAYLIGHT
TZOFFSETFROM:+0100
TZOFFSETTO:+0200
TZNAME:CEST
DTSTART:20230326T010000
END:DAYLIGHT
BEGIN:STANDARD
TZOFFSETFROM:+0200
TZOFFSETTO:+0100
TZNAME:CET
DTSTART:20231029T010000
END:STANDARD
BEGIN:DAYLIGHT
TZOFFSETFROM:+0100
TZOFFSETTO:+0200
TZNAME:CEST
DTSTART:20240331T010000
END:DAYLIGHT
BEGIN:STANDARD
TZOFFSETFROM:+0200
TZOFFSETTO:+0100
TZNAME:CET
DTSTART:20241027T010000
END:STANDARD
BEGIN:DAYLIGHT
TZOFFSETFROM:+0100
TZOFFSETTO:+0200
TZNAME:CEST
DTSTART:20250330T010000
END:DAYLIGHT
BEGIN:STANDARD
TZOFFSETFROM:+0200
TZOFFSETTO:+0100
TZNAME:CET
DTSTART:20251026T010000
END:STANDARD
END:VTIMEZONE
BEGIN:VEVENT
DTSTART;TZID=Europe/Berlin:20240602T110000
DTEND;TZID=Europe/Berlin:20240602T120000
DTSTAMP:20260423T104646
CREATED:20240506T152847Z
LAST-MODIFIED:20240506T153857Z
UID:8633-1717326000-1717329600@www.ekg-linkenheim.de
SUMMARY:Gottesdienst am 2.6.2024 um 11 Uhr
DESCRIPTION:mit Pfarrerin Konstanze Gholamvisy \n11 Uhr | Evang. Kirche Linkenheim \n  \nMitfeiern ist auch per Livestream möglich. \n  \n  \n  \n 
URL:https://www.ekg-linkenheim.de/event/gottesdienst-am-2-6-2024-um-11-uhr/
LOCATION:Evangelische Kirche Linkenheim
CATEGORIES:kommender Gottesdienst
ATTACH;FMTTYPE=image/jpeg:https://www.ekg-linkenheim.de/wp-content/uploads/2020/06/symbolbild-fuer-alle.jpg
END:VEVENT
BEGIN:VEVENT
DTSTART;TZID=Europe/Berlin:20240602T170000
DTEND;TZID=Europe/Berlin:20240602T180000
DTSTAMP:20260423T104646
CREATED:20240507T102048Z
LAST-MODIFIED:20240508T071922Z
UID:8381-1717347600-1717351200@www.ekg-linkenheim.de
SUMMARY:Gute-Nacht-Kirche für Familien\, 2.6.2024
DESCRIPTION:Evang. Kirche Linkenheim | 17 Uhr \nErlebe einen Gottesdienst für Groß und Klein!
URL:https://www.ekg-linkenheim.de/event/gute-nacht-kirche-fuer-familien-24-3-2024/
LOCATION:Evangelische Kirche Linkenheim
CATEGORIES:Familien,kommender Gottesdienst,Vormerken
ATTACH;FMTTYPE=image/png:https://www.ekg-linkenheim.de/wp-content/uploads/2022/03/2022-04-03-Gute-Nacht-Kirche_.docx-e1647881441639.png
END:VEVENT
END:VCALENDAR