BEGIN:VCALENDAR
VERSION:2.0
PRODID:-//Evangelische Kirchengemeinde Linkenheim - ECPv6.15.20//NONSGML v1.0//EN
CALSCALE:GREGORIAN
METHOD:PUBLISH
X-WR-CALNAME:Evangelische Kirchengemeinde Linkenheim
X-ORIGINAL-URL:https://www.ekg-linkenheim.de
X-WR-CALDESC:Veranstaltungen für Evangelische Kirchengemeinde Linkenheim
REFRESH-INTERVAL;VALUE=DURATION:PT1H
X-Robots-Tag:noindex
X-PUBLISHED-TTL:PT1H
BEGIN:VTIMEZONE
TZID:Europe/Berlin
BEGIN:DAYLIGHT
TZOFFSETFROM:+0100
TZOFFSETTO:+0200
TZNAME:CEST
DTSTART:20230326T010000
END:DAYLIGHT
BEGIN:STANDARD
TZOFFSETFROM:+0200
TZOFFSETTO:+0100
TZNAME:CET
DTSTART:20231029T010000
END:STANDARD
BEGIN:DAYLIGHT
TZOFFSETFROM:+0100
TZOFFSETTO:+0200
TZNAME:CEST
DTSTART:20240331T010000
END:DAYLIGHT
BEGIN:STANDARD
TZOFFSETFROM:+0200
TZOFFSETTO:+0100
TZNAME:CET
DTSTART:20241027T010000
END:STANDARD
BEGIN:DAYLIGHT
TZOFFSETFROM:+0100
TZOFFSETTO:+0200
TZNAME:CEST
DTSTART:20250330T010000
END:DAYLIGHT
BEGIN:STANDARD
TZOFFSETFROM:+0200
TZOFFSETTO:+0100
TZNAME:CET
DTSTART:20251026T010000
END:STANDARD
END:VTIMEZONE
BEGIN:VEVENT
DTSTART;TZID=Europe/Berlin:20240614T190000
DTEND;TZID=Europe/Berlin:20240614T210000
DTSTAMP:20260421T205030
CREATED:20240126T093907Z
LAST-MODIFIED:20240527T152755Z
UID:8274-1718391600-1718398800@www.ekg-linkenheim.de
SUMMARY:Kino im Gemeindehaus\, 14.6.2024
DESCRIPTION:Gute Unterhaltung mit Getränken und Snacks \nBeginn: 19.00 Uhr \n  \nZum heutigen Film: \nVertrauen wagen (Originaltitel lautet anders) \nDer zehnjährige Auggie Pullman leidet seit der Geburt unter einem seltenen Gendefekt. Weil sein Gesicht auch nach 26 Operationen noch entstellt aussieht\, zeigt er sich öffentlich nur mit einem Astronautenhelm\, den ihm sein Vater Nate geschenkt hat. Der witzige und kluge Junge kann sich auf seine fürsorglichen Eltern und die rücksichtsvolle ältere Schwester Olivia verlassen\, die sich jedoch vernachlässigt fühlt\, weil stets ihr Bruder die erste Geige spielt. Bisher wurde Auggie von seiner Mutter Isabel zu Hause unterrichtet\, doch nun soll er eine reguläre Grundschule besuchen. Nach anfänglicher Skepsis nimmt Auggie seinen Mut zusammen und geht in die 5. Klasse. Dort gaffen ihn alle Mitschüler/-innen zunächst an\, später muss er sich abfällige Bemerkungen anhören\, vor allem vom rüpelhaften Julian. Dafür findet Auggie in Jack einen Freund. Doch dann verrät ihn Jack in einem schwachen Moment. (kinofenster.de) \n 
URL:https://www.ekg-linkenheim.de/event/kino-im-gemeindehaus-14-6-2024/
LOCATION:Evangelisches Gemeindehaus Linkenheim
CATEGORIES:Film
ATTACH;FMTTYPE=image/jpeg:https://www.ekg-linkenheim.de/wp-content/uploads/2022/04/Kino-Logo_Hintergrund-01-scaled-e1651055488494.jpg
END:VEVENT
END:VCALENDAR