BEGIN:VCALENDAR
VERSION:2.0
PRODID:-//Evangelische Kirchengemeinde Linkenheim - ECPv6.15.20//NONSGML v1.0//EN
CALSCALE:GREGORIAN
METHOD:PUBLISH
X-ORIGINAL-URL:https://www.ekg-linkenheim.de
X-WR-CALDESC:Veranstaltungen für Evangelische Kirchengemeinde Linkenheim
REFRESH-INTERVAL;VALUE=DURATION:PT1H
X-Robots-Tag:noindex
X-PUBLISHED-TTL:PT1H
BEGIN:VTIMEZONE
TZID:Europe/Berlin
BEGIN:DAYLIGHT
TZOFFSETFROM:+0100
TZOFFSETTO:+0200
TZNAME:CEST
DTSTART:20230326T010000
END:DAYLIGHT
BEGIN:STANDARD
TZOFFSETFROM:+0200
TZOFFSETTO:+0100
TZNAME:CET
DTSTART:20231029T010000
END:STANDARD
BEGIN:DAYLIGHT
TZOFFSETFROM:+0100
TZOFFSETTO:+0200
TZNAME:CEST
DTSTART:20240331T010000
END:DAYLIGHT
BEGIN:STANDARD
TZOFFSETFROM:+0200
TZOFFSETTO:+0100
TZNAME:CET
DTSTART:20241027T010000
END:STANDARD
BEGIN:DAYLIGHT
TZOFFSETFROM:+0100
TZOFFSETTO:+0200
TZNAME:CEST
DTSTART:20250330T010000
END:DAYLIGHT
BEGIN:STANDARD
TZOFFSETFROM:+0200
TZOFFSETTO:+0100
TZNAME:CET
DTSTART:20251026T010000
END:STANDARD
END:VTIMEZONE
BEGIN:VEVENT
DTSTART;TZID=Europe/Berlin:20240622T140000
DTEND;TZID=Europe/Berlin:20240622T150000
DTSTAMP:20260423T123858
CREATED:20240506T154341Z
LAST-MODIFIED:20240506T154341Z
UID:8646-1719064800-1719068400@www.ekg-linkenheim.de
SUMMARY:Taufgottesdienst am 22.6.2024
DESCRIPTION:mit Kirchenrat i. R. Hans-Martin Steffe \n14 Uhr | Evang. Kirche Linkenheim \n  \nKein Livestream verfügbar. \n  \n  \n  \n 
URL:https://www.ekg-linkenheim.de/event/taufgottesdienst-am-22-6-2024/
LOCATION:Evangelische Kirche Linkenheim
CATEGORIES:kommender Gottesdienst,Taufe
ATTACH;FMTTYPE=image/jpeg:https://www.ekg-linkenheim.de/wp-content/uploads/2024/05/Kirche-Linkenheim-20200827-MWT41299-scaled.jpg
END:VEVENT
END:VCALENDAR