BEGIN:VCALENDAR
VERSION:2.0
PRODID:-//Evangelische Kirchengemeinde Linkenheim - ECPv6.15.20//NONSGML v1.0//EN
CALSCALE:GREGORIAN
METHOD:PUBLISH
X-WR-CALNAME:Evangelische Kirchengemeinde Linkenheim
X-ORIGINAL-URL:https://www.ekg-linkenheim.de
X-WR-CALDESC:Veranstaltungen für Evangelische Kirchengemeinde Linkenheim
REFRESH-INTERVAL;VALUE=DURATION:PT1H
X-Robots-Tag:noindex
X-PUBLISHED-TTL:PT1H
BEGIN:VTIMEZONE
TZID:Europe/Berlin
BEGIN:DAYLIGHT
TZOFFSETFROM:+0100
TZOFFSETTO:+0200
TZNAME:CEST
DTSTART:20230326T010000
END:DAYLIGHT
BEGIN:STANDARD
TZOFFSETFROM:+0200
TZOFFSETTO:+0100
TZNAME:CET
DTSTART:20231029T010000
END:STANDARD
BEGIN:DAYLIGHT
TZOFFSETFROM:+0100
TZOFFSETTO:+0200
TZNAME:CEST
DTSTART:20240331T010000
END:DAYLIGHT
BEGIN:STANDARD
TZOFFSETFROM:+0200
TZOFFSETTO:+0100
TZNAME:CET
DTSTART:20241027T010000
END:STANDARD
BEGIN:DAYLIGHT
TZOFFSETFROM:+0100
TZOFFSETTO:+0200
TZNAME:CEST
DTSTART:20250330T010000
END:DAYLIGHT
BEGIN:STANDARD
TZOFFSETFROM:+0200
TZOFFSETTO:+0100
TZNAME:CET
DTSTART:20251026T010000
END:STANDARD
END:VTIMEZONE
BEGIN:VEVENT
DTSTART;TZID=Europe/Berlin:20240707T100000
DTEND;TZID=Europe/Berlin:20240707T110000
DTSTAMP:20260421T133146
CREATED:20240516T140311Z
LAST-MODIFIED:20240516T140311Z
UID:8665-1720346400-1720350000@www.ekg-linkenheim.de
SUMMARY:Gottesdienst am 7.7.2024
DESCRIPTION:mit Abendmahlsfeier \nEs feiern mit uns Kirchenrat Axel Ebert und Kirchenrat i. R. Hans-Martin Steffe \nMusikalische Gestaltung: Coro Novum\, Johannes Link \n10 Uhr | Evang. Kirche Linkenheim \n  \nMitfeiern ist auch per Livestream möglich. \n  \n  \n  \n 
URL:https://www.ekg-linkenheim.de/event/gottesdienst-am-7-7-2024/
LOCATION:Evangelische Kirche Linkenheim
CATEGORIES:kommender Gottesdienst
ATTACH;FMTTYPE=image/jpeg:https://www.ekg-linkenheim.de/wp-content/uploads/2020/06/symbolbild-fuer-alle.jpg
END:VEVENT
END:VCALENDAR