BEGIN:VCALENDAR
VERSION:2.0
PRODID:-//Evangelische Kirchengemeinde Linkenheim - ECPv6.15.20//NONSGML v1.0//EN
CALSCALE:GREGORIAN
METHOD:PUBLISH
X-WR-CALNAME:Evangelische Kirchengemeinde Linkenheim
X-ORIGINAL-URL:https://www.ekg-linkenheim.de
X-WR-CALDESC:Veranstaltungen für Evangelische Kirchengemeinde Linkenheim
REFRESH-INTERVAL;VALUE=DURATION:PT1H
X-Robots-Tag:noindex
X-PUBLISHED-TTL:PT1H
BEGIN:VTIMEZONE
TZID:Europe/Berlin
BEGIN:DAYLIGHT
TZOFFSETFROM:+0100
TZOFFSETTO:+0200
TZNAME:CEST
DTSTART:20230326T010000
END:DAYLIGHT
BEGIN:STANDARD
TZOFFSETFROM:+0200
TZOFFSETTO:+0100
TZNAME:CET
DTSTART:20231029T010000
END:STANDARD
BEGIN:DAYLIGHT
TZOFFSETFROM:+0100
TZOFFSETTO:+0200
TZNAME:CEST
DTSTART:20240331T010000
END:DAYLIGHT
BEGIN:STANDARD
TZOFFSETFROM:+0200
TZOFFSETTO:+0100
TZNAME:CET
DTSTART:20241027T010000
END:STANDARD
BEGIN:DAYLIGHT
TZOFFSETFROM:+0100
TZOFFSETTO:+0200
TZNAME:CEST
DTSTART:20250330T010000
END:DAYLIGHT
BEGIN:STANDARD
TZOFFSETFROM:+0200
TZOFFSETTO:+0100
TZNAME:CET
DTSTART:20251026T010000
END:STANDARD
END:VTIMEZONE
BEGIN:VEVENT
DTSTART;TZID=Europe/Berlin:20240726T190000
DTEND;TZID=Europe/Berlin:20240726T210000
DTSTAMP:20260421T133152
CREATED:20240716T094535Z
LAST-MODIFIED:20240717T071813Z
UID:8801-1722020400-1722027600@www.ekg-linkenheim.de
SUMMARY:Kino im Gemeindehaus\, 26.7.2024
DESCRIPTION:Gute Unterhaltung mit Getränken und Snacks \nBeginn: 19.00 Uhr \n  \nGezeigt wird heute eine Französische Komödie (2023) über das Glück\, das in den einfachen Dingen liegt\, erzählt vor träumerischer Bergkulisse von einer besonderen Freundschaft und der heilenden Wirkung sommerlicher Landluft. \n  \n 
URL:https://www.ekg-linkenheim.de/event/kino-im-gemeindehaus-26-7-2024/
LOCATION:Evangelisches Gemeindehaus Linkenheim
CATEGORIES:Film
ATTACH;FMTTYPE=image/jpeg:https://www.ekg-linkenheim.de/wp-content/uploads/2022/04/Kino-Logo_Hintergrund-01-scaled-e1651055488494.jpg
END:VEVENT
END:VCALENDAR