BEGIN:VCALENDAR
VERSION:2.0
PRODID:-//Evangelische Kirchengemeinde Linkenheim - ECPv6.15.20//NONSGML v1.0//EN
CALSCALE:GREGORIAN
METHOD:PUBLISH
X-ORIGINAL-URL:https://www.ekg-linkenheim.de
X-WR-CALDESC:Veranstaltungen für Evangelische Kirchengemeinde Linkenheim
REFRESH-INTERVAL;VALUE=DURATION:PT1H
X-Robots-Tag:noindex
X-PUBLISHED-TTL:PT1H
BEGIN:VTIMEZONE
TZID:Europe/Berlin
BEGIN:DAYLIGHT
TZOFFSETFROM:+0100
TZOFFSETTO:+0200
TZNAME:CEST
DTSTART:20240331T010000
END:DAYLIGHT
BEGIN:STANDARD
TZOFFSETFROM:+0200
TZOFFSETTO:+0100
TZNAME:CET
DTSTART:20241027T010000
END:STANDARD
BEGIN:DAYLIGHT
TZOFFSETFROM:+0100
TZOFFSETTO:+0200
TZNAME:CEST
DTSTART:20250330T010000
END:DAYLIGHT
BEGIN:STANDARD
TZOFFSETFROM:+0200
TZOFFSETTO:+0100
TZNAME:CET
DTSTART:20251026T010000
END:STANDARD
BEGIN:DAYLIGHT
TZOFFSETFROM:+0100
TZOFFSETTO:+0200
TZNAME:CEST
DTSTART:20260329T010000
END:DAYLIGHT
BEGIN:STANDARD
TZOFFSETFROM:+0200
TZOFFSETTO:+0100
TZNAME:CET
DTSTART:20261025T010000
END:STANDARD
END:VTIMEZONE
BEGIN:VEVENT
DTSTART;TZID=Europe/Berlin:20250525T100000
DTEND;TZID=Europe/Berlin:20250525T110000
DTSTAMP:20260420T221156
CREATED:20250502T065242Z
LAST-MODIFIED:20250502T070751Z
UID:9706-1748167200-1748170800@www.ekg-linkenheim.de
SUMMARY:Gottesdienst am 25.5.2025 (Rogate)
DESCRIPTION:10 Uhr | Evang. Kirche Linkenheim \nGottesdienst mit Taufmöglichkeit \nLeitung: Pfarrer Jonas Rühle \nMusik. Begleitung: Mathias Heftrich \n  \nHier geht’s zum Livestream \n  \n  \n 
URL:https://www.ekg-linkenheim.de/event/gottesdienst-am-25-5-2025-rogate/
LOCATION:Evangelische Kirche Linkenheim
CATEGORIES:kommender Gottesdienst
ATTACH;FMTTYPE=image/jpeg:https://www.ekg-linkenheim.de/wp-content/uploads/2020/08/IMG_9925-kirche.jpg
END:VEVENT
BEGIN:VEVENT
DTSTART;TZID=Europe/Berlin:20250525T140000
DTEND;TZID=Europe/Berlin:20250525T170000
DTSTAMP:20260420T221156
CREATED:20250226T105828Z
LAST-MODIFIED:20250506T102554Z
UID:9466-1748181600-1748192400@www.ekg-linkenheim.de
SUMMARY:Kunst.Kultur.Kirche
DESCRIPTION:Kunst.Kultur.Kirche – Gemeinsam unterwegs 🎨🎶⛪ \nErleben Sie eine außergewöhnliche Kunstausstellung anlässlich des 50-jährigen Fusionsjubiläums von Linkenheim und Hochstetten. \nSeit nunmehr 50 Jahren gehen Linkenheim und Hochstetten gemeinsame Wege – nicht nur als politische Gemeinde\, sondern auch in Kunst\, Kultur und Kirche. Diese Ausstellung ist ein lebendiges Zeugnis dafür\, wie über Jahrzehnte hinweg Kreativität\, Glaube und Gemeinschaft einander bereichert und inspiriert haben. \nDie Fusion von Linkenheim-Hochstetten war nie nur eine organisatorische Entscheidung – sie war der Beginn eines kulturellen Miteinanders\, das bis heute wächst. Künstler\, Vereine und Kirchen haben über Generationen hinweg Brücken gebaut\, Ideen geteilt und Räume für Begegnung geschaffen. \nUnter der Schirmherrschaft von Michael Möslang laden die politische Gemeinde Linkenheim-Hochstetten\, die KuGel (Kunstgemeinschaft Linkenheim-Hochstetten)\, die Evangelischen Kirchengemeinden Linkenheim und Hochstetten\, die FeG Hochstetten\, die Katholische Gemeinde Linkenheim-Hochstetten\, die Stiftung Geschwister Nees\, der Diakonieverein sowie zahlreiche KünstlerInnen mit ihren geöffneten Ateliers zu einer vielfältigen Ausstellung ein. \n📅 Vernissage: 25. Mai 2025\, 14:00 Uhr\n📍 Ort: Evang. Gemeindehaus Linkenheim\, Karlsruher Str. 62 \nModeration: Pfarrer Jonas Rühle\nGrußwort: Michael Möslang                                                                                                                                                                  Laudatio: Maria Lange \nEnthüllung des Mosaiks am Gemeindehaus \n🎶 Musikalische Begleitung: Julia Mende und Michael Moritz \nTauchen Sie ein in die Werke talentierter (KuGeL-) Künstler\, ihrer Schüler und weiterer regionaler Kunstschaffender. \nMit dieser Ausstellung feiern wir ein halbes Jahrhundert lebendige Kulturgeschichte. Entdecken Sie aktuelle Werke der Künstler\, besuchen Sie offene Ateliers und erleben Sie\, wie Kunst\, Kultur und Kirche gemeinsam unterwegs sind – und es auch in Zukunft sein werden. \nDie Ausstellung ist bis zum 20. Juli 2025 geöffnet und bietet an mehreren Tagen besondere gemeinsame Erlebnisse. Lassen Sie sich inspirieren\, begegnen Sie Künstlern persönlich in ihren Ateliers und erleben Sie Kunst in einem einzigartigen Rahmen. \nWir freuen uns auf Sie! \nWeitere Infos zu den Öffnungszeiten finden Sie auf unserer Webseite oder erhalten Sie bei Kathrin und Peter Gerlach\, gerlach@kpgerlach.de und +49 (0) 172 7452728 \nÖffnungszeiten der Ausstellungsorte:  \nDie Ausstellung ist bis zum 20. Juli 2025 geöffnet:  \nEvang. Kirchen: bei und nach Veranstaltungen \nFeG: bei Veranstaltungen; Café K3 mittwochs von 14.30 – 17.30 Uhr \nKatholische Kirche:  täglich von 9 – 17 Uhr \nRathaus: Geschäftszeiten \nSeniorenheim Stiftung Geschwister Nees: sonntags von\nca. 14.30-17.00 Uhr (bitte im Café Vielfalt melden) \nDiakonieverein: dienstags 16 – 18.30 Uhr\, mittwochs 10 – 15.30 Uhr\, freitags 10 – 12 Uhr und 14 – 15.30 Uhr;\n6.7.  14 – 16 Uhr \nGemeinsame Öffnung aller Ausstellungsorte\n25.5.  15.30 – 17 Uhr \nEvang. Kirchen\, FeG\, Kathol. Kirche\, Seniorenheim  \n29.6./13.7.  15 – 17 Uhr \nWir freuen uns auf Sie! \nWeitere Infos zu den Öffnungszeiten finden Sie auf unserer Webseite oder erhalten Sie bei Kathrin und Peter Gerlach\, gerlach@kpgerlach.de und +49 (0) 172 745 27 28 \n  \nÖffnungszeiten der Ausstellungsorte:  \nDie Ausstellung ist bis zum 20. Juli 2025 geöffnet:  \nEvang. Kirchen: bei und nach Veranstaltungen \nFeG: bei Veranstaltungen; Café K3 mittwochs von 14.30 – 17.30 Uhr \nKatholische Kirche:  täglich von 9 – 17 Uhr \nRathaus: Geschäftszeiten \nSeniorenheim Stiftung Geschwister Nees: sonntags von\nca. 14.30-17.00 Uhr (bitte im Café Vielfalt melden) \nDiakonieverein: dienstags 16 – 18.30 Uhr\, mittwochs 10 – 15.30 Uhr\, freitags 10 – 12 Uhr und 14 – 15.30 Uhr;\n6.7.  14 – 16 Uhr \n  \nGemeinsame Öffnung aller Ausstellungsorte\n25.5.  15.30 – 17 Uhr \n  \nEvang. Kirchen\, FeG\, Kathol. Kirche\, Seniorenheim  \n29.6./13.7.  15 – 17 Uhr \n  \nWir freuen uns auf Sie! \n  \nWeitere Infos zu den Öffnungszeiten finden Sie auf unserer Webseite oder erhalten Sie bei Kathrin und Peter Gerlach\, gerlach@kpgerlach.de und +49 (0) 172 745 27 28 \n  \nKünstler öffnen ihre Ateliers  \nManfred Metz \nHolzarbeiten \nRingstr. 23 \n25.5./29.6./13.7. I  11 – 17 Uhr \n  \nSabine Lange-Vogel \nAirbrush \nAm Kirschendeich 6 \n25.5./29.6.  I  14.30 – 18 Uhr \n  \nErnst Mente \nMalerei \nAm Langen Berg 15a \n29.6./13.7.  I  13.30 – 18 Uhr \n  \nUlrich Wolff \nRadierung \nAtelier in 76706 Dettenheim \nAm Hambiegel 5 \nhttp://www.u-j-wolff.de \n25.5./8.6.  I  15 – 17 Uhr \n  \nUlrike Hemminger \nMalerei \nAm Kirschendeich 6 \n25.5./29.6.  I  14.30 – 18 Uhr \n  \nJürgen König \nMalerei \nCafé Fachwerkhaus \nKarlsruher Str. 61 \n29.6.  I  14 – 18 Uhr \n  \nMartina Zimmermann \nMalerei \nMittelpfad 5 \n25.5./29.6./13.7.  I  14 – 18 Uhr \n  \nGeorg Bothe \nOtto-Hahn Str. 8 \nTetrapack-Radierungen \n25.5./28.5.  I  15 – 18 Uhr \n  \nSieglinde Ritz \nPerlen-Kunst \nFriedenstrasse 16 a \n25.5./9.6./29.6.  I  14 – 18 Uhr \n  \nMarlene Heger \nMalerei \nRheinstr. 21 \n9.6./29.6./13.7.  I  14 – 17 Uhr \n  \nChristopher Schug \nSchnitz- und Holzarbeiten \nHauptstr. 39 \n13.7.  I  12 – 18 Uhr \n  \nSandra Köhler \nMalerei \nEuroparing 84 \n25.5.  I 15 – 18 Uhr \n  \nAm 25.5. öffnen die KünstlerInnen erst nach der Vernissage. \n 
URL:https://www.ekg-linkenheim.de/event/kunst-kultur-kirche/
LOCATION:Evangelisches Gemeindehaus Linkenheim
CATEGORIES:Ausstellung,Sonstige,Vormerken
ATTACH;FMTTYPE=image/jpeg:https://www.ekg-linkenheim.de/wp-content/uploads/2025/02/2025-05-25-Ausstellung-zum-Fusionsjubilaeum.jpg
END:VEVENT
END:VCALENDAR