BEGIN:VCALENDAR
VERSION:2.0
PRODID:-//Evangelische Kirchengemeinde Linkenheim - ECPv6.15.20//NONSGML v1.0//EN
CALSCALE:GREGORIAN
METHOD:PUBLISH
X-WR-CALNAME:Evangelische Kirchengemeinde Linkenheim
X-ORIGINAL-URL:https://www.ekg-linkenheim.de
X-WR-CALDESC:Veranstaltungen für Evangelische Kirchengemeinde Linkenheim
REFRESH-INTERVAL;VALUE=DURATION:PT1H
X-Robots-Tag:noindex
X-PUBLISHED-TTL:PT1H
BEGIN:VTIMEZONE
TZID:Europe/Berlin
BEGIN:DAYLIGHT
TZOFFSETFROM:+0100
TZOFFSETTO:+0200
TZNAME:CEST
DTSTART:20250330T010000
END:DAYLIGHT
BEGIN:STANDARD
TZOFFSETFROM:+0200
TZOFFSETTO:+0100
TZNAME:CET
DTSTART:20251026T010000
END:STANDARD
BEGIN:DAYLIGHT
TZOFFSETFROM:+0100
TZOFFSETTO:+0200
TZNAME:CEST
DTSTART:20260329T010000
END:DAYLIGHT
BEGIN:STANDARD
TZOFFSETFROM:+0200
TZOFFSETTO:+0100
TZNAME:CET
DTSTART:20261025T010000
END:STANDARD
BEGIN:DAYLIGHT
TZOFFSETFROM:+0100
TZOFFSETTO:+0200
TZNAME:CEST
DTSTART:20270328T010000
END:DAYLIGHT
BEGIN:STANDARD
TZOFFSETFROM:+0200
TZOFFSETTO:+0100
TZNAME:CET
DTSTART:20271031T010000
END:STANDARD
END:VTIMEZONE
BEGIN:VEVENT
DTSTART;TZID=Europe/Berlin:20260419T103000
DTEND;TZID=Europe/Berlin:20260419T113000
DTSTAMP:20260420T220531
CREATED:20260330T142605Z
LAST-MODIFIED:20260417T063522Z
UID:10657-1776594600-1776598200@www.ekg-linkenheim.de
SUMMARY:Gottesdienst am 19.4.2026 um 10.30 Uhr!
DESCRIPTION:Beginn: 10.30 Uhr | Evang. Kirche Linkenheim \nLeitung: Gottesdienstteam \nMusik. Gestaltung: Johannes Link und Band \nHier geht’s zum Livestream.
URL:https://www.ekg-linkenheim.de/event/gottesdienst-am-19-4-2026-mit-team/
LOCATION:Evangelische Kirche Linkenheim
CATEGORIES:kommender Gottesdienst
ATTACH;FMTTYPE=image/jpeg:https://www.ekg-linkenheim.de/wp-content/uploads/2020/08/evang-kirche-linkenheim-ansicht2.jpg
END:VEVENT
BEGIN:VEVENT
DTSTART;TZID=Europe/Berlin:20260419T150000
DTEND;TZID=Europe/Berlin:20260419T180000
DTSTAMP:20260420T220531
CREATED:20260330T160548Z
LAST-MODIFIED:20260330T160845Z
UID:10664-1776610800-1776621600@www.ekg-linkenheim.de
SUMMARY:KIRCHE KUNTERBUNT
DESCRIPTION:15.00 bis 18.00 Uhr | im evang. Gemeindehaus Linkenheim \nKirche Kunterbunt ist frech und wild und damit Kirche für die ganze Familie – so kreativ und lebensfroh wie Pippi Langstrumpf. Für Kinder von ca. 5 bis 12 Jahren mit ihren Familien \nFür Kinder mit Mamas\, Papas\, Omas\, Opas\, Tanten\, Onkel\, und und und … \nDas erwartet euch:  \nAktiv-Zeit mit Stationen zum Toben\, Kreativsein\, Experimentieren \nFeier-Zeit: Staunen\, Musik\, Geschichten\, Verrücktes und Gedanken zu Gott und der Welt \nEssens-Zeit: Lecker\, fröhlich und mit viel Zeit für Gespräche und Austausch \n  \n  \nVeranstalter: \nKath. Gemeinde Maria Königin Linkenheim-Hochstetten \nCVJM Linkenheim e. V. \nEv. Kirchengemeinden Hochstetten & Linkenheim \n  \n 
URL:https://www.ekg-linkenheim.de/event/kirche-kunterbunt-19-4-2026/
LOCATION:Evangelisches Gemeindehaus Linkenheim
CATEGORIES:Familien,kommender Gottesdienst,Vormerken
ATTACH;FMTTYPE=image/png:https://www.ekg-linkenheim.de/wp-content/uploads/2026/03/2026-04-19-Kirche-Kunterbunt.png
END:VEVENT
END:VCALENDAR