BEGIN:VCALENDAR
VERSION:2.0
PRODID:-//Evangelische Kirchengemeinde Linkenheim - ECPv6.15.20//NONSGML v1.0//EN
CALSCALE:GREGORIAN
METHOD:PUBLISH
X-ORIGINAL-URL:https://www.ekg-linkenheim.de
X-WR-CALDESC:Veranstaltungen für Evangelische Kirchengemeinde Linkenheim
REFRESH-INTERVAL;VALUE=DURATION:PT1H
X-Robots-Tag:noindex
X-PUBLISHED-TTL:PT1H
BEGIN:VTIMEZONE
TZID:Europe/Berlin
BEGIN:DAYLIGHT
TZOFFSETFROM:+0100
TZOFFSETTO:+0200
TZNAME:CEST
DTSTART:20220327T010000
END:DAYLIGHT
BEGIN:STANDARD
TZOFFSETFROM:+0200
TZOFFSETTO:+0100
TZNAME:CET
DTSTART:20221030T010000
END:STANDARD
BEGIN:DAYLIGHT
TZOFFSETFROM:+0100
TZOFFSETTO:+0200
TZNAME:CEST
DTSTART:20230326T010000
END:DAYLIGHT
BEGIN:STANDARD
TZOFFSETFROM:+0200
TZOFFSETTO:+0100
TZNAME:CET
DTSTART:20231029T010000
END:STANDARD
BEGIN:DAYLIGHT
TZOFFSETFROM:+0100
TZOFFSETTO:+0200
TZNAME:CEST
DTSTART:20240331T010000
END:DAYLIGHT
BEGIN:STANDARD
TZOFFSETFROM:+0200
TZOFFSETTO:+0100
TZNAME:CET
DTSTART:20241027T010000
END:STANDARD
END:VTIMEZONE
BEGIN:VEVENT
DTSTART;TZID=Europe/Berlin:20231214T140000
DTEND;TZID=Europe/Berlin:20231214T160000
DTSTAMP:20260423T184730
CREATED:20230519T070045Z
LAST-MODIFIED:20230519T070045Z
UID:7593-1702562400-1702569600@www.ekg-linkenheim.de
SUMMARY:Seniorennachmittag am 14.12.2023
DESCRIPTION:14.00 Uhr  | Evang. Gemeindehaus Linkenheim (Ende: ca. 16.00 Uhr) \nMit Zeit für Begegnung und Kaffeetrinken. \n  \nWenn Sie Abholung benötigen\, melden Sie sich bitte rechtzeitig im Pfarramt. Wir versuchen dann\, dies zu organisieren. \n 
URL:https://www.ekg-linkenheim.de/event/seniorennachmittag-am-14-12-2023/
LOCATION:Evangelisches Gemeindehaus Linkenheim
CATEGORIES:Senioren
ATTACH;FMTTYPE=image/jpeg:https://www.ekg-linkenheim.de/wp-content/uploads/2023/05/dva_ev-gemeindehaus-linkenheim_005578.jpg
END:VEVENT
BEGIN:VEVENT
DTSTART;TZID=Europe/Berlin:20231217T100000
DTEND;TZID=Europe/Berlin:20231217T110000
DTSTAMP:20260423T184730
CREATED:20231129T080705Z
LAST-MODIFIED:20231129T080705Z
UID:8105-1702807200-1702810800@www.ekg-linkenheim.de
SUMMARY:Gottesdienst am 3. Advent\, 17.12.2023
DESCRIPTION:10.00 Uhr | Evang. Kirche Linkenheim \nGottesdienstleitung: Gemeindediakon i. R. Werner Schlittenhardt \n  \nDer Gottesdienst kann hier von überall aus mitgefeiert werden. \n  \n 
URL:https://www.ekg-linkenheim.de/event/gottesdienst-am-3-advent-17-12-2023/
LOCATION:Evangelische Kirche Linkenheim
CATEGORIES:kommender Gottesdienst
ATTACH;FMTTYPE=image/jpeg:https://www.ekg-linkenheim.de/wp-content/uploads/2020/12/Kerze_Christbaum.jpg
END:VEVENT
BEGIN:VEVENT
DTSTART;TZID=Europe/Berlin:20231226T100000
DTEND;TZID=Europe/Berlin:20231226T110000
DTSTAMP:20260423T184730
CREATED:20231206T081731Z
LAST-MODIFIED:20231206T081731Z
UID:8139-1703584800-1703588400@www.ekg-linkenheim.de
SUMMARY:Festgottesdienst am 2. Weihnachtsfeiertag (26.12.2023)
DESCRIPTION:10.00 Uhr | Evang. Kirche Linkenheim \nLeitung: Prädikant Torsten Guldenschuh \nSie können diesen Gottesdienst auch per Livestream mitfeiern.
URL:https://www.ekg-linkenheim.de/event/festgottesdienst-am-2-weihnachtsfeiertag-26-12-2023/
LOCATION:Evangelische Kirche Linkenheim
CATEGORIES:kommender Gottesdienst
ATTACH;FMTTYPE=image/jpeg:https://www.ekg-linkenheim.de/wp-content/uploads/2020/05/symbolbild-weihnachtszeit.jpg
END:VEVENT
BEGIN:VEVENT
DTSTART;TZID=Europe/Berlin:20231231T170000
DTEND;TZID=Europe/Berlin:20231231T180000
DTSTAMP:20260423T184730
CREATED:20231206T082229Z
LAST-MODIFIED:20231206T082229Z
UID:8142-1704042000-1704045600@www.ekg-linkenheim.de
SUMMARY:Gottesdienst am Altjahresabend\, 31.12.2023
DESCRIPTION:17.00 Uhr | Evang. Kirche Linkenheim \nLeitung: Gemeindediakon i. R. Lutz Barth \nSie können diesen Gottesdienst auch per Livestream mitfeiern.
URL:https://www.ekg-linkenheim.de/event/gottesdienst-am-altjahresabend-31-12-2023/
LOCATION:Evangelische Kirche Linkenheim
CATEGORIES:kommender Gottesdienst
ATTACH;FMTTYPE=image/jpeg:https://www.ekg-linkenheim.de/wp-content/uploads/2023/12/051_4903_Farb_RGB.jpg
END:VEVENT
END:VCALENDAR