BEGIN:VCALENDAR
VERSION:2.0
PRODID:-//Evangelische Kirchengemeinde Linkenheim - ECPv6.15.20//NONSGML v1.0//EN
CALSCALE:GREGORIAN
METHOD:PUBLISH
X-WR-CALNAME:Evangelische Kirchengemeinde Linkenheim
X-ORIGINAL-URL:https://www.ekg-linkenheim.de
X-WR-CALDESC:Veranstaltungen für Evangelische Kirchengemeinde Linkenheim
REFRESH-INTERVAL;VALUE=DURATION:PT1H
X-Robots-Tag:noindex
X-PUBLISHED-TTL:PT1H
BEGIN:VTIMEZONE
TZID:Europe/Berlin
BEGIN:DAYLIGHT
TZOFFSETFROM:+0100
TZOFFSETTO:+0200
TZNAME:CEST
DTSTART:20230326T010000
END:DAYLIGHT
BEGIN:STANDARD
TZOFFSETFROM:+0200
TZOFFSETTO:+0100
TZNAME:CET
DTSTART:20231029T010000
END:STANDARD
BEGIN:DAYLIGHT
TZOFFSETFROM:+0100
TZOFFSETTO:+0200
TZNAME:CEST
DTSTART:20240331T010000
END:DAYLIGHT
BEGIN:STANDARD
TZOFFSETFROM:+0200
TZOFFSETTO:+0100
TZNAME:CET
DTSTART:20241027T010000
END:STANDARD
BEGIN:DAYLIGHT
TZOFFSETFROM:+0100
TZOFFSETTO:+0200
TZNAME:CEST
DTSTART:20250330T010000
END:DAYLIGHT
BEGIN:STANDARD
TZOFFSETFROM:+0200
TZOFFSETTO:+0100
TZNAME:CET
DTSTART:20251026T010000
END:STANDARD
END:VTIMEZONE
BEGIN:VEVENT
DTSTART;TZID=Europe/Berlin:20240101T113000
DTEND;TZID=Europe/Berlin:20240101T123000
DTSTAMP:20260423T171621
CREATED:20231206T082446Z
LAST-MODIFIED:20231215T113153Z
UID:8146-1704108600-1704112200@www.ekg-linkenheim.de
SUMMARY:Neujahrsandacht mit Brunch\, 1.1.2024
DESCRIPTION:11.30 Uhr | Evang. Gemeindehaus Linkenheim (neben der Kirche) \nLeitung: Prädikant Rüdiger Heger \nHerzliche Einladung!\nFür Kaffee und Brötchen beim Brunch ist gesorgt. Weitere Extras dürfen mitgebracht werden. (Keine Anmeldung erforderlich\, – einfach kommen!)\nIn der Kirche liegen übrigens jetzt schon Listen für diejenigen aus\, die gerne bei der Vorbereitung helfen oder etwas ganz Bestimmtes zum Brunch beitragen möchten. \nKein Livestream für diesen Gottesdienst verfügbar.
URL:https://www.ekg-linkenheim.de/event/brunchgottesdienst-an-neujahr-1-1-2024/
LOCATION:Evangelische Kirche Linkenheim
CATEGORIES:kommender Gottesdienst
ATTACH;FMTTYPE=image/jpeg:https://www.ekg-linkenheim.de/wp-content/uploads/2020/08/titelbild_gemeindezentrum-1500x630-1.jpg
END:VEVENT
BEGIN:VEVENT
DTSTART;TZID=Europe/Berlin:20240107T094500
DTEND;TZID=Europe/Berlin:20240107T104500
DTSTAMP:20260423T171621
CREATED:20231206T083112Z
LAST-MODIFIED:20231206T083112Z
UID:8152-1704620700-1704624300@www.ekg-linkenheim.de
SUMMARY:Gem. Gottesdienst am 7.1.2024 in Hochstetten
DESCRIPTION:9.45 Uhr | Evang. Kirche Hochstetten (Kirchstraße) \nLeitung: Pfarrerin Konstanze Gholamvisy \n  \nKein Livestream verfügbar.
URL:https://www.ekg-linkenheim.de/event/gem-gottesdienst-am-7-1-2024-in-hochstetten/
LOCATION:Evang. Kirche Hochstetten\, Kirchstr. 1b\, Linkenheim-Hochstetten\, 76351\, Germany
CATEGORIES:kommender Gottesdienst
ATTACH;FMTTYPE=image/jpeg:https://www.ekg-linkenheim.de/wp-content/uploads/2023/01/Kirche-Hochstetten.jpg
END:VEVENT
BEGIN:VEVENT
DTSTART;TZID=Europe/Berlin:20240114T100000
DTEND;TZID=Europe/Berlin:20240114T110000
DTSTAMP:20260423T171621
CREATED:20231206T084133Z
LAST-MODIFIED:20231206T084133Z
UID:8162-1705226400-1705230000@www.ekg-linkenheim.de
SUMMARY:Allianz-KiGo am 14.1.2024
DESCRIPTION:10 Uhr | Evang. Gemeindehaus Linkenheim (neben der Kirche) \nHerzliche Einladung an alle Kinder! \nEuer Allianz-KiGo-Team \n  \n 
URL:https://www.ekg-linkenheim.de/event/allianz-kigo-am-14-1-2024/
LOCATION:Evangelische Kirche Linkenheim
CATEGORIES:Familien
ATTACH;FMTTYPE=image/jpeg:https://www.ekg-linkenheim.de/wp-content/uploads/2020/05/demo-images-kindergottesdienst.jpg
END:VEVENT
BEGIN:VEVENT
DTSTART;TZID=Europe/Berlin:20240126T190000
DTEND;TZID=Europe/Berlin:20240126T210000
DTSTAMP:20260423T171621
CREATED:20231009T155441Z
LAST-MODIFIED:20240126T093648Z
UID:8025-1706295600-1706302800@www.ekg-linkenheim.de
SUMMARY:Kino im Gemeindehaus\, 26.1.2024
DESCRIPTION:Gute Unterhaltung mit Getränken und Snacks \nBeginn: 19.00 Uhr \n  \nDie Filmauswahl wird jeweils erst kurz vorher getroffen. Lassen Sie sich überraschen. \n 
URL:https://www.ekg-linkenheim.de/event/kinoabend-am-fr-20-10-2023/
LOCATION:Evangelisches Gemeindehaus Linkenheim
CATEGORIES:Film
ATTACH;FMTTYPE=image/jpeg:https://www.ekg-linkenheim.de/wp-content/uploads/2022/04/Kino-Logo_Hintergrund-01-scaled-e1651055488494.jpg
END:VEVENT
END:VCALENDAR