BEGIN:VCALENDAR
VERSION:2.0
PRODID:-//Evangelische Kirchengemeinde Linkenheim - ECPv6.15.20//NONSGML v1.0//EN
CALSCALE:GREGORIAN
METHOD:PUBLISH
X-ORIGINAL-URL:https://www.ekg-linkenheim.de
X-WR-CALDESC:Veranstaltungen für Evangelische Kirchengemeinde Linkenheim
REFRESH-INTERVAL;VALUE=DURATION:PT1H
X-Robots-Tag:noindex
X-PUBLISHED-TTL:PT1H
BEGIN:VTIMEZONE
TZID:Europe/Berlin
BEGIN:DAYLIGHT
TZOFFSETFROM:+0100
TZOFFSETTO:+0200
TZNAME:CEST
DTSTART:20230326T010000
END:DAYLIGHT
BEGIN:STANDARD
TZOFFSETFROM:+0200
TZOFFSETTO:+0100
TZNAME:CET
DTSTART:20231029T010000
END:STANDARD
BEGIN:DAYLIGHT
TZOFFSETFROM:+0100
TZOFFSETTO:+0200
TZNAME:CEST
DTSTART:20240331T010000
END:DAYLIGHT
BEGIN:STANDARD
TZOFFSETFROM:+0200
TZOFFSETTO:+0100
TZNAME:CET
DTSTART:20241027T010000
END:STANDARD
BEGIN:DAYLIGHT
TZOFFSETFROM:+0100
TZOFFSETTO:+0200
TZNAME:CEST
DTSTART:20250330T010000
END:DAYLIGHT
BEGIN:STANDARD
TZOFFSETFROM:+0200
TZOFFSETTO:+0100
TZNAME:CET
DTSTART:20251026T010000
END:STANDARD
END:VTIMEZONE
BEGIN:VEVENT
DTSTART;TZID=Europe/Berlin:20240401T094500
DTEND;TZID=Europe/Berlin:20240401T110000
DTSTAMP:20260423T123933
CREATED:20240223T095452Z
LAST-MODIFIED:20240223T095452Z
UID:8419-1711964700-1711969200@www.ekg-linkenheim.de
SUMMARY:Gottesdienst am Ostermontag in Hochstetten\, 1.4.2024
DESCRIPTION:Beginn: 9.45 Uhr | Evang. Kirche Hochstetten \nLeitung: Pfr. Simon Roth \n  \n  \nKein Livestream verfügbar \n  \n  \n  \n 
URL:https://www.ekg-linkenheim.de/event/gottesdienst-am-ostermontag-in-hochstetten-1-4-2024/
LOCATION:Evang. Kirche Hochstetten\, Kirchstr. 1b\, Linkenheim-Hochstetten\, 76351\, Germany
CATEGORIES:kommender Gottesdienst
ATTACH;FMTTYPE=image/jpeg:https://www.ekg-linkenheim.de/wp-content/uploads/2023/01/Kirche-Hochstetten.jpg
END:VEVENT
BEGIN:VEVENT
DTSTART;TZID=Europe/Berlin:20240406T100000
DTEND;TZID=Europe/Berlin:20240406T170000
DTSTAMP:20260423T123933
CREATED:20240212T135546Z
LAST-MODIFIED:20240212T135546Z
UID:8369-1712397600-1712422800@www.ekg-linkenheim.de
SUMMARY:Gospel-Workshop am 6.4.2024
DESCRIPTION:Lust auf Gospel? \nMach mit beim Gospel-Workshop mit anschließendem Auftritt im Rahmen eines Gemeindekonzerts \n  \nWorkshop: Samstag\, 06.04.2024 von 10:00 – 17:00 Uhr \nHauptprobe: Dienstag\, 09.04.2024 um 19:30 Uhr \nGeneralprobe mit Band: am 13.04.2024 um 14:30 Uhr \nKonzert: 13.04.2024 um 18:00 Uhr (Kirche) \n  \nEvang. Gemeindehaus Linkenheim\, Karlsruher Str. 62 \nEvang. Kirche Linkenheim\, Karlsruher Str. 68 \n  \nDu musst nichts mitbringen außer etwas Zeit und Deine Stimme – für Noten\, Essen und Trinken sorgt der Coro Novum \nDu willst dabei sein? \nDann melde Dich einfach  bis 25.03.24 an. \n  \nE-Mail an: coronovum@web.de \nTelefon: 01520 2023019 (Petra Müller)
URL:https://www.ekg-linkenheim.de/event/gospel-workshop-am-6-4-2024/
LOCATION:Evangelisches Gemeindehaus Linkenheim
CATEGORIES:Konzert,Sonstige,Vormerken
END:VEVENT
BEGIN:VEVENT
DTSTART;TZID=Europe/Berlin:20240407T100000
DTEND;TZID=Europe/Berlin:20240407T110000
DTSTAMP:20260423T123933
CREATED:20240314T164711Z
LAST-MODIFIED:20240314T164711Z
UID:8455-1712484000-1712487600@www.ekg-linkenheim.de
SUMMARY:Gottesdienst am 7.4.2024
DESCRIPTION:10 Uhr | Evang. Kirche Linkenheim \nmit Prädikantin Eva-Maria Keitel \nMitfeiern ist auch per Livestream möglich. \n  \n 
URL:https://www.ekg-linkenheim.de/event/gottesdienst-am-7-4-2024/
LOCATION:Evangelische Kirche Linkenheim
CATEGORIES:kommender Gottesdienst
ATTACH;FMTTYPE=image/jpeg:https://www.ekg-linkenheim.de/wp-content/uploads/2020/06/symbolbild-fuer-alle.jpg
END:VEVENT
BEGIN:VEVENT
DTSTART;TZID=Europe/Berlin:20240412T180000
DTEND;TZID=Europe/Berlin:20240412T190000
DTSTAMP:20260423T123933
CREATED:20240314T165008Z
LAST-MODIFIED:20240314T165008Z
UID:8458-1712944800-1712948400@www.ekg-linkenheim.de
SUMMARY:Abendmahlsgottesdienst anl. der Konfirmation\, 12.4.2024
DESCRIPTION:18 Uhr | Evang. Kirche Linkenheim \nmit CVJM-Jugendreferent Stefan Geißert \nKein Livestream \n  \n 
URL:https://www.ekg-linkenheim.de/event/abendmahlsgottesdienst-anl-der-konfirmation-12-4-2024/
LOCATION:Evangelische Kirche Linkenheim
CATEGORIES:kommender Gottesdienst
ATTACH;FMTTYPE=image/jpeg:https://www.ekg-linkenheim.de/wp-content/uploads/2020/06/182_5204_rgb-scaled.jpg
END:VEVENT
BEGIN:VEVENT
DTSTART;TZID=Europe/Berlin:20240413T190000
DTEND;TZID=Europe/Berlin:20240413T210000
DTSTAMP:20260423T123933
CREATED:20240129T161716Z
LAST-MODIFIED:20240311T182708Z
UID:8304-1713034800-1713042000@www.ekg-linkenheim.de
SUMMARY:Gemeinde-Konzert\, 13.4.2024
DESCRIPTION:„Mit Herzen\, Mund und Händen“\nEvangelische Kirche Linkenheim | 19.00 Uhr\nMusikensembles und Musiker/innen der Ev. KG Linkenheim musizieren\, zu einem großen Teil miteinander\, querbeet durch die Jahrhunderte und Musikstile. \nLassen Sie sich überraschen! \nEintritt frei. \n  \n 
URL:https://www.ekg-linkenheim.de/event/gemeinde-konzert-13-4-2024/
LOCATION:Evangelische Kirche Linkenheim
CATEGORIES:Konzert
END:VEVENT
BEGIN:VEVENT
DTSTART;TZID=Europe/Berlin:20240414T100000
DTEND;TZID=Europe/Berlin:20240414T110000
DTSTAMP:20260423T123933
CREATED:20240314T165123Z
LAST-MODIFIED:20240314T165123Z
UID:8461-1713088800-1713092400@www.ekg-linkenheim.de
SUMMARY:Gottesdienst am 14.4.2024
DESCRIPTION:10 Uhr | Evang. Kirche Linkenheim \nmit Diakon i. R. Lutz Barth \nMitfeiern ist auch per Livestream möglich. \n  \n 
URL:https://www.ekg-linkenheim.de/event/gottesdienst-am-14-4-2024/
LOCATION:Evangelische Kirche Linkenheim
CATEGORIES:kommender Gottesdienst
ATTACH;FMTTYPE=image/jpeg:https://www.ekg-linkenheim.de/wp-content/uploads/2020/06/symbolbild-fuer-alle.jpg
END:VEVENT
BEGIN:VEVENT
DTSTART;TZID=Europe/Berlin:20240421T100000
DTEND;TZID=Europe/Berlin:20240421T110000
DTSTAMP:20260423T123933
CREATED:20240314T165922Z
LAST-MODIFIED:20240314T165922Z
UID:8464-1713693600-1713697200@www.ekg-linkenheim.de
SUMMARY:Festgottesdienst zur Konfirmation\, 21.4.2024
DESCRIPTION:10 Uhr | Evang. Kirche Linkenheim \nmit CVJM Jugendreferent Stefan Geißert \nMitfeiern ist auch per Livestream möglich. \n  \n 
URL:https://www.ekg-linkenheim.de/event/festgottesdienst-zur-konfirmation-21-4-2024/
LOCATION:Evangelische Kirche Linkenheim
CATEGORIES:kommender Gottesdienst
ATTACH;FMTTYPE=image/jpeg:https://www.ekg-linkenheim.de/wp-content/uploads/2024/03/Fotolia_23164023_M.Kompass.jpg
END:VEVENT
BEGIN:VEVENT
DTSTART;TZID=Europe/Berlin:20240426T190000
DTEND;TZID=Europe/Berlin:20240426T200000
DTSTAMP:20260423T123933
CREATED:20240415T132842Z
LAST-MODIFIED:20240422T145319Z
UID:8520-1714158000-1714161600@www.ekg-linkenheim.de
SUMMARY:Vorstellungsgottesdienst zur Pfarrstellenbesetzung\, 26.4.2024
DESCRIPTION:mit Pfarrer Jonas Rühle \nEvang. Kirche Linkenheim | 19.00 Uhr\nMitfeiern ist auch per Livestream möglich. \nIm Anschluss an den Gottesdienst (ca. 20.00 Uhr) findet in der Kirche eine Gemeindeversammlung statt.
URL:https://www.ekg-linkenheim.de/event/vorstellungsgottesdienst-zur-pfarrstellenbesetzung-26-4-2024/
LOCATION:Evangelische Kirche Linkenheim
CATEGORIES:kommender Gottesdienst
ATTACH;FMTTYPE=image/jpeg:https://www.ekg-linkenheim.de/wp-content/uploads/2020/06/titelscreen-video.jpg
END:VEVENT
BEGIN:VEVENT
DTSTART;TZID=Europe/Berlin:20240427T180000
DTEND;TZID=Europe/Berlin:20240427T190000
DTSTAMP:20260423T123933
CREATED:20240126T092607Z
LAST-MODIFIED:20240126T092607Z
UID:8251-1714240800-1714244400@www.ekg-linkenheim.de
SUMMARY:Musikalische Abendandacht am 27.4.2024 in Hochstetten
DESCRIPTION:18.00 Uhr | Evangelische Kirche Hochstetten \n  \nMusikalische Abendandacht: Lob macht leicht \nPavel Khlopovskiy (Gitarre) \nKonstanze Gholamvisy (Textauswahl) \n 
URL:https://www.ekg-linkenheim.de/event/musikalische-abendandacht-am-27-4-2024-in-hochstetten/
LOCATION:Evang. Kirche Hochstetten\, Kirchstr. 1b\, Linkenheim-Hochstetten\, 76351\, Germany
CATEGORIES:kommender Gottesdienst,Konzert
ATTACH;FMTTYPE=image/jpeg:https://www.ekg-linkenheim.de/wp-content/uploads/2023/01/Webseite-Allhemein-scaled.jpg
END:VEVENT
BEGIN:VEVENT
DTSTART;TZID=Europe/Berlin:20240428T100000
DTEND;TZID=Europe/Berlin:20240428T110000
DTSTAMP:20260423T123933
CREATED:20240314T170102Z
LAST-MODIFIED:20240314T170102Z
UID:8468-1714298400-1714302000@www.ekg-linkenheim.de
SUMMARY:Gottesdienst am 28.4.2024
DESCRIPTION:Gottesdienst (mit Taufen) \n10 Uhr | Evang. Kirche Linkenheim \nmit Kirchenrat i. R. Hans-Martin Steffe \nMitfeiern ist auch per Livestream möglich. \n  \n 
URL:https://www.ekg-linkenheim.de/event/gottesdienst-am-28-4-2024/
LOCATION:Evangelische Kirche Linkenheim
CATEGORIES:kommender Gottesdienst
ATTACH;FMTTYPE=image/jpeg:https://www.ekg-linkenheim.de/wp-content/uploads/2020/06/symbolbild-fuer-alle.jpg
END:VEVENT
BEGIN:VEVENT
DTSTART;TZID=Europe/Berlin:20240430T190000
DTEND;TZID=Europe/Berlin:20240430T200000
DTSTAMP:20260423T123933
CREATED:20240415T162323Z
LAST-MODIFIED:20240422T144301Z
UID:8527-1714503600-1714507200@www.ekg-linkenheim.de
SUMMARY:Wahlgottesdienst zur Pfarrstellenbesetzung\, 30.4.2024
DESCRIPTION:Abendgottesdienst \n19 Uhr | Evang. Kirche Linkenheim \nmit Dekanstellvertreter Pfr. Matthias Boch \n  \nMitfeiern ist auch per Livestream möglich. \n 
URL:https://www.ekg-linkenheim.de/event/wahlgottesdienst-zur-pfarrstellenbesetzung-30-4-2024/
LOCATION:Evangelische Kirche Linkenheim
CATEGORIES:kommender Gottesdienst
ATTACH;FMTTYPE=image/jpeg:https://www.ekg-linkenheim.de/wp-content/uploads/2020/06/titelscreen-video.jpg
END:VEVENT
END:VCALENDAR