BEGIN:VCALENDAR
VERSION:2.0
PRODID:-//Evangelische Kirchengemeinde Linkenheim - ECPv6.15.20//NONSGML v1.0//EN
CALSCALE:GREGORIAN
METHOD:PUBLISH
X-WR-CALNAME:Evangelische Kirchengemeinde Linkenheim
X-ORIGINAL-URL:https://www.ekg-linkenheim.de
X-WR-CALDESC:Veranstaltungen für Evangelische Kirchengemeinde Linkenheim
REFRESH-INTERVAL;VALUE=DURATION:PT1H
X-Robots-Tag:noindex
X-PUBLISHED-TTL:PT1H
BEGIN:VTIMEZONE
TZID:Europe/Berlin
BEGIN:DAYLIGHT
TZOFFSETFROM:+0100
TZOFFSETTO:+0200
TZNAME:CEST
DTSTART:20230326T010000
END:DAYLIGHT
BEGIN:STANDARD
TZOFFSETFROM:+0200
TZOFFSETTO:+0100
TZNAME:CET
DTSTART:20231029T010000
END:STANDARD
BEGIN:DAYLIGHT
TZOFFSETFROM:+0100
TZOFFSETTO:+0200
TZNAME:CEST
DTSTART:20240331T010000
END:DAYLIGHT
BEGIN:STANDARD
TZOFFSETFROM:+0200
TZOFFSETTO:+0100
TZNAME:CET
DTSTART:20241027T010000
END:STANDARD
BEGIN:DAYLIGHT
TZOFFSETFROM:+0100
TZOFFSETTO:+0200
TZNAME:CEST
DTSTART:20250330T010000
END:DAYLIGHT
BEGIN:STANDARD
TZOFFSETFROM:+0200
TZOFFSETTO:+0100
TZNAME:CET
DTSTART:20251026T010000
END:STANDARD
END:VTIMEZONE
BEGIN:VEVENT
DTSTART;TZID=Europe/Berlin:20240707T100000
DTEND;TZID=Europe/Berlin:20240707T110000
DTSTAMP:20260421T115456
CREATED:20240516T140311Z
LAST-MODIFIED:20240516T140311Z
UID:8665-1720346400-1720350000@www.ekg-linkenheim.de
SUMMARY:Gottesdienst am 7.7.2024
DESCRIPTION:mit Abendmahlsfeier \nEs feiern mit uns Kirchenrat Axel Ebert und Kirchenrat i. R. Hans-Martin Steffe \nMusikalische Gestaltung: Coro Novum\, Johannes Link \n10 Uhr | Evang. Kirche Linkenheim \n  \nMitfeiern ist auch per Livestream möglich. \n  \n  \n  \n 
URL:https://www.ekg-linkenheim.de/event/gottesdienst-am-7-7-2024/
LOCATION:Evangelische Kirche Linkenheim
CATEGORIES:kommender Gottesdienst
ATTACH;FMTTYPE=image/jpeg:https://www.ekg-linkenheim.de/wp-content/uploads/2020/06/symbolbild-fuer-alle.jpg
END:VEVENT
BEGIN:VEVENT
DTSTART;TZID=Europe/Berlin:20240714T100000
DTEND;TZID=Europe/Berlin:20240714T110000
DTSTAMP:20260421T115456
CREATED:20240516T154027Z
LAST-MODIFIED:20240516T154536Z
UID:8668-1720951200-1720954800@www.ekg-linkenheim.de
SUMMARY:Gottesdienst am 14.7.2024 mit Choraufführung "Evergreens"
DESCRIPTION:Leitung: Dekan Dr. Martin Reppenhagen \nmit der Aufführung „Evergreens“ des Chorprojekts von Anke Nickisch \n10 Uhr | Evang. Kirche Linkenheim \n  \nMitfeiern ist auch per Livestream möglich. \n  \n  \n  \n 
URL:https://www.ekg-linkenheim.de/event/gottesdienst-am-14-7-2024/
LOCATION:Evangelische Kirche Linkenheim
CATEGORIES:kommender Gottesdienst
ATTACH;FMTTYPE=image/jpeg:https://www.ekg-linkenheim.de/wp-content/uploads/2020/06/symbolbild-fuer-alle.jpg
END:VEVENT
BEGIN:VEVENT
DTSTART;TZID=Europe/Berlin:20240721T100000
DTEND;TZID=Europe/Berlin:20240721T110000
DTSTAMP:20260421T115456
CREATED:20240516T154251Z
LAST-MODIFIED:20240516T154251Z
UID:8671-1721556000-1721559600@www.ekg-linkenheim.de
SUMMARY:Gottesdienst am 21.7.2024
DESCRIPTION:mit Pfr.in Katja Willunat \n10 Uhr | Evang. Kirche Linkenheim \n  \nMitfeiern ist auch per Livestream möglich. \n  \n  \n  \n 
URL:https://www.ekg-linkenheim.de/event/gottesdienst-am-21-7-2024/
LOCATION:Evangelische Kirche Linkenheim
CATEGORIES:kommender Gottesdienst
ATTACH;FMTTYPE=image/jpeg:https://www.ekg-linkenheim.de/wp-content/uploads/2020/06/symbolbild-fuer-alle.jpg
END:VEVENT
BEGIN:VEVENT
DTSTART;TZID=Europe/Berlin:20240721T190000
DTEND;TZID=Europe/Berlin:20240721T203000
DTSTAMP:20260421T115456
CREATED:20240129T162110Z
LAST-MODIFIED:20240430T100009Z
UID:8307-1721588400-1721593800@www.ekg-linkenheim.de
SUMMARY:Posaunenchor-Serenade\, 21.7.2024
DESCRIPTION:Rathausplatz Linkenheim | 19.00 Uhr\nmit HoLi Brass\, Posaunenchor Linkenheim-Hochstetten (Leitung: Philipp Gabriel) \n  \n  \nDas gesamte Jahresprogramm 2024 der Kirchenmusik der Evangelischen Kirchengemeinden Linkenheim und Hochstetten können Sie hier als PDF-Flyer herunterladen.
URL:https://www.ekg-linkenheim.de/event/posaunenchor-serenade-21-7-2024/
LOCATION:Rathausplatz
CATEGORIES:Konzert
ATTACH;FMTTYPE=image/png:https://www.ekg-linkenheim.de/wp-content/uploads/2023/01/Design-ohne-Titel-1.png
END:VEVENT
BEGIN:VEVENT
DTSTART;TZID=Europe/Berlin:20240726T190000
DTEND;TZID=Europe/Berlin:20240726T210000
DTSTAMP:20260421T115456
CREATED:20240716T094535Z
LAST-MODIFIED:20240717T071813Z
UID:8801-1722020400-1722027600@www.ekg-linkenheim.de
SUMMARY:Kino im Gemeindehaus\, 26.7.2024
DESCRIPTION:Gute Unterhaltung mit Getränken und Snacks \nBeginn: 19.00 Uhr \n  \nGezeigt wird heute eine Französische Komödie (2023) über das Glück\, das in den einfachen Dingen liegt\, erzählt vor träumerischer Bergkulisse von einer besonderen Freundschaft und der heilenden Wirkung sommerlicher Landluft. \n  \n 
URL:https://www.ekg-linkenheim.de/event/kino-im-gemeindehaus-26-7-2024/
LOCATION:Evangelisches Gemeindehaus Linkenheim
CATEGORIES:Film
ATTACH;FMTTYPE=image/jpeg:https://www.ekg-linkenheim.de/wp-content/uploads/2022/04/Kino-Logo_Hintergrund-01-scaled-e1651055488494.jpg
END:VEVENT
BEGIN:VEVENT
DTSTART;TZID=Europe/Berlin:20240728T100000
DTEND;TZID=Europe/Berlin:20240728T110000
DTSTAMP:20260421T115456
CREATED:20240516T155156Z
LAST-MODIFIED:20240516T155208Z
UID:8676-1722160800-1722164400@www.ekg-linkenheim.de
SUMMARY:Ökumenischer Gottesdienst\, 28.7.2024
DESCRIPTION:mit Pfr.in Konstanze Gholamvisy und Pastoralreferent Marc Rahmann \nEs feiern gemeinsam die kath. Seelsorgeeinheit sowie die evang. Kirchengemeinden Hochstetten und Linkenheim \n10 Uhr | Evang. Kirche Linkenheim \n  \nMitfeiern ist auch per Livestream möglich. \n  \n  \n  \n 
URL:https://www.ekg-linkenheim.de/event/oekumenischer-gottesdienst-28-7-2024/
LOCATION:Evangelische Kirche Linkenheim
CATEGORIES:kommender Gottesdienst
ATTACH;FMTTYPE=image/jpeg:https://www.ekg-linkenheim.de/wp-content/uploads/2024/05/Oekumene.jpg
END:VEVENT
END:VCALENDAR